BEGIN:VCALENDAR
VERSION:2.0
PRODID:-//Employees Against Mandates - ECPv6.8.2.1//NONSGML v1.0//EN
CALSCALE:GREGORIAN
METHOD:PUBLISH
X-ORIGINAL-URL:https://employeesagainstmandates.com
X-WR-CALDESC:Events for Employees Against Mandates
REFRESH-INTERVAL;VALUE=DURATION:PT1H
X-Robots-Tag:noindex
X-PUBLISHED-TTL:PT1H
BEGIN:VTIMEZONE
TZID:Australia/Brisbane
BEGIN:STANDARD
TZOFFSETFROM:+1000
TZOFFSETTO:+1000
TZNAME:AEST
DTSTART:20220101T000000
END:STANDARD
END:VTIMEZONE
BEGIN:VEVENT
DTSTART;TZID=Australia/Brisbane:20220506T080000
DTEND;TZID=Australia/Brisbane:20220506T170000
DTSTAMP:20260423T101533
CREATED:20220506T064808Z
LAST-MODIFIED:20220506T064835Z
UID:5724-1651824000-1651856400@employeesagainstmandates.com
SUMMARY:FREE @ THE SEA | SYDNEY
DESCRIPTION: 
URL:https://employeesagainstmandates.com/event/free-the-sea-sydney/
LOCATION:Bondi Beach\, Queen Elizabeth Drive\, Sydney\, NSW\, 2026\, Australia
END:VEVENT
END:VCALENDAR